BEGIN:VCALENDAR
VERSION:2.0
PRODID:-//Communauté Inavouable - ECPv6.15.20//NONSGML v1.0//EN
CALSCALE:GREGORIAN
METHOD:PUBLISH
X-WR-CALNAME:Communauté Inavouable
X-ORIGINAL-URL:https://inavouable.net
X-WR-CALDESC:Évènements pour Communauté Inavouable
REFRESH-INTERVAL;VALUE=DURATION:PT1H
X-Robots-Tag:noindex
X-PUBLISHED-TTL:PT1H
BEGIN:VTIMEZONE
TZID:Europe/Paris
BEGIN:DAYLIGHT
TZOFFSETFROM:+0100
TZOFFSETTO:+0200
TZNAME:CEST
DTSTART:20180325T010000
END:DAYLIGHT
BEGIN:STANDARD
TZOFFSETFROM:+0200
TZOFFSETTO:+0100
TZNAME:CET
DTSTART:20181028T010000
END:STANDARD
BEGIN:DAYLIGHT
TZOFFSETFROM:+0100
TZOFFSETTO:+0200
TZNAME:CEST
DTSTART:20190331T010000
END:DAYLIGHT
BEGIN:STANDARD
TZOFFSETFROM:+0200
TZOFFSETTO:+0100
TZNAME:CET
DTSTART:20191027T010000
END:STANDARD
BEGIN:DAYLIGHT
TZOFFSETFROM:+0100
TZOFFSETTO:+0200
TZNAME:CEST
DTSTART:20200329T010000
END:DAYLIGHT
BEGIN:STANDARD
TZOFFSETFROM:+0200
TZOFFSETTO:+0100
TZNAME:CET
DTSTART:20201025T010000
END:STANDARD
END:VTIMEZONE
BEGIN:VEVENT
DTSTART;TZID=Europe/Paris:20191116T203000
DTEND;TZID=Europe/Paris:20191116T203000
DTSTAMP:20260425T174758
CREATED:20190913T153056Z
LAST-MODIFIED:20200505T121109Z
UID:12634-1573936200-1573936200@inavouable.net
SUMMARY:Ses Singularités - Espace B.Mantienne - Verrières Le Buisson
DESCRIPTION:
URL:https://inavouable.net/event/ses-singularites-espace-b-mantienne-verrieres-le-buisson/
LOCATION:Espace Bernard Mantienne (Verrières-le-Buisson\, 91)\, Verrières Le Buisson\, 91370
CATEGORIES:Ses Singularités
END:VEVENT
BEGIN:VEVENT
DTSTART;TZID=Europe/Paris:20191122T180000
DTEND;TZID=Europe/Paris:20191122T190000
DTSTAMP:20260425T174758
CREATED:20190913T164732Z
LAST-MODIFIED:20200505T121102Z
UID:12726-1574445600-1574449200@inavouable.net
SUMMARY:Scènes du 6 - Festival des arts vivants
DESCRIPTION:
URL:https://inavouable.net/event/ses-singularites-festival-des-arts-vivants-le-6b/
LOCATION:Le 6b\, 6 quai de Seine\, Saint-Denis\, 93 200
CATEGORIES:Ses Singularités
END:VEVENT
END:VCALENDAR