BEGIN:VCALENDAR
VERSION:2.0
PRODID:-//Communauté Inavouable - ECPv6.15.20//NONSGML v1.0//EN
CALSCALE:GREGORIAN
METHOD:PUBLISH
X-ORIGINAL-URL:https://inavouable.net
X-WR-CALDESC:Évènements pour Communauté Inavouable
REFRESH-INTERVAL;VALUE=DURATION:PT1H
X-Robots-Tag:noindex
X-PUBLISHED-TTL:PT1H
BEGIN:VTIMEZONE
TZID:Europe/Paris
BEGIN:DAYLIGHT
TZOFFSETFROM:+0100
TZOFFSETTO:+0200
TZNAME:CEST
DTSTART:20180325T010000
END:DAYLIGHT
BEGIN:STANDARD
TZOFFSETFROM:+0200
TZOFFSETTO:+0100
TZNAME:CET
DTSTART:20181028T010000
END:STANDARD
BEGIN:DAYLIGHT
TZOFFSETFROM:+0100
TZOFFSETTO:+0200
TZNAME:CEST
DTSTART:20190331T010000
END:DAYLIGHT
BEGIN:STANDARD
TZOFFSETFROM:+0200
TZOFFSETTO:+0100
TZNAME:CET
DTSTART:20191027T010000
END:STANDARD
BEGIN:DAYLIGHT
TZOFFSETFROM:+0100
TZOFFSETTO:+0200
TZNAME:CEST
DTSTART:20200329T010000
END:DAYLIGHT
BEGIN:STANDARD
TZOFFSETFROM:+0200
TZOFFSETTO:+0100
TZNAME:CET
DTSTART:20201025T010000
END:STANDARD
END:VTIMEZONE
BEGIN:VEVENT
DTSTART;TZID=Europe/Paris:20190927T150000
DTEND;TZID=Europe/Paris:20190927T180000
DTSTAMP:20260425T210728
CREATED:20190913T152004Z
LAST-MODIFIED:20200505T121129Z
UID:12618-1569596400-1569607200@inavouable.net
SUMMARY:Ses Singularités aux Laboratoires d'Aubervilliers
DESCRIPTION:
URL:https://inavouable.net/event/ses-singularites-aux-laboratoires-daubervilliers/
LOCATION:Laboratoires d’Aubervilliers
CATEGORIES:Ses Singularités
END:VEVENT
END:VCALENDAR