BEGIN:VCALENDAR
VERSION:2.0
PRODID:-//Communauté Inavouable - ECPv6.15.20//NONSGML v1.0//EN
CALSCALE:GREGORIAN
METHOD:PUBLISH
X-WR-CALNAME:Communauté Inavouable
X-ORIGINAL-URL:https://inavouable.net
X-WR-CALDESC:Évènements pour Communauté Inavouable
REFRESH-INTERVAL;VALUE=DURATION:PT1H
X-Robots-Tag:noindex
X-PUBLISHED-TTL:PT1H
BEGIN:VTIMEZONE
TZID:Europe/Paris
BEGIN:DAYLIGHT
TZOFFSETFROM:+0100
TZOFFSETTO:+0200
TZNAME:CEST
DTSTART:20210328T010000
END:DAYLIGHT
BEGIN:STANDARD
TZOFFSETFROM:+0200
TZOFFSETTO:+0100
TZNAME:CET
DTSTART:20211031T010000
END:STANDARD
BEGIN:DAYLIGHT
TZOFFSETFROM:+0100
TZOFFSETTO:+0200
TZNAME:CEST
DTSTART:20220327T010000
END:DAYLIGHT
BEGIN:STANDARD
TZOFFSETFROM:+0200
TZOFFSETTO:+0100
TZNAME:CET
DTSTART:20221030T010000
END:STANDARD
BEGIN:DAYLIGHT
TZOFFSETFROM:+0100
TZOFFSETTO:+0200
TZNAME:CEST
DTSTART:20230326T010000
END:DAYLIGHT
BEGIN:STANDARD
TZOFFSETFROM:+0200
TZOFFSETTO:+0100
TZNAME:CET
DTSTART:20231029T010000
END:STANDARD
END:VTIMEZONE
BEGIN:VEVENT
DTSTART;TZID=Europe/Paris:20220917T160000
DTEND;TZID=Europe/Paris:20220917T170000
DTSTAMP:20260425T045729
CREATED:20220501T135221Z
LAST-MODIFIED:20220501T135221Z
UID:22580-1663430400-1663434000@inavouable.net
SUMMARY:Amie d'enfance en promenade\, Bois de Place\, Lisses (91) - Journées européennes du patrimoine
DESCRIPTION:Dans le cadre de sa résidence à Lisses depuis 2021\, en partenariat avec les réseaux des conservatoires Grand Paris Sud\, des médiathèques du 91 \, Clyde Chabot présentera l’édition scénique de Amie d’enfance\, avec les actrices Lola Guiton et Péguy Péneau et le musicien eriKm
URL:https://inavouable.net/event/amie-denfance-en-promenade-bois-de-place-lisses-91-journees-europeennes-du-patrimoine/
LOCATION:Amie d’enfance\, Salle Gérard Philipe\, Lisses\, 1 Pl. Gérard Philipe\, Lisses\, 91090\, France
CATEGORIES:Agenda,Amie D'Enfance
END:VEVENT
BEGIN:VEVENT
DTSTART;TZID=Europe/Paris:20220917T160000
DTEND;TZID=Europe/Paris:20220917T170000
DTSTAMP:20260425T045729
CREATED:20220907T124541Z
LAST-MODIFIED:20220907T125343Z
UID:22841-1663430400-1663434000@inavouable.net
SUMMARY:Childhood Friend promenade edition\, Bois de Place\, Lisses (91) - European Heritage Days
DESCRIPTION:As part of her residency in Lisses since 2021\, in partnership with the Grand Paris Sud conservatory network and the media libraries of the 91 region\, Clyde Chabot will present the promenade edition of Amie d’enfance\, with actresses Lola Guiton and Péguy Péneau
URL:https://inavouable.net/event/childhood-friend-promenade-edition-bois-de-place-lisses-91-european-heritage-days/
LOCATION:Amie d’enfance\, Salle Gérard Philipe\, Lisses\, 1 Pl. Gérard Philipe\, Lisses\, 91090\, France
CATEGORIES:Amie D'Enfance,Calendar
END:VEVENT
END:VCALENDAR