BEGIN:VCALENDAR
VERSION:2.0
PRODID:-//Communauté Inavouable - ECPv6.15.20//NONSGML v1.0//EN
CALSCALE:GREGORIAN
METHOD:PUBLISH
X-WR-CALNAME:Communauté Inavouable
X-ORIGINAL-URL:https://inavouable.net
X-WR-CALDESC:Évènements pour Communauté Inavouable
REFRESH-INTERVAL;VALUE=DURATION:PT1H
X-Robots-Tag:noindex
X-PUBLISHED-TTL:PT1H
BEGIN:VTIMEZONE
TZID:Europe/Paris
BEGIN:DAYLIGHT
TZOFFSETFROM:+0100
TZOFFSETTO:+0200
TZNAME:CEST
DTSTART:20200329T010000
END:DAYLIGHT
BEGIN:STANDARD
TZOFFSETFROM:+0200
TZOFFSETTO:+0100
TZNAME:CET
DTSTART:20201025T010000
END:STANDARD
BEGIN:DAYLIGHT
TZOFFSETFROM:+0100
TZOFFSETTO:+0200
TZNAME:CEST
DTSTART:20210328T010000
END:DAYLIGHT
BEGIN:STANDARD
TZOFFSETFROM:+0200
TZOFFSETTO:+0100
TZNAME:CET
DTSTART:20211031T010000
END:STANDARD
BEGIN:DAYLIGHT
TZOFFSETFROM:+0100
TZOFFSETTO:+0200
TZNAME:CEST
DTSTART:20220327T010000
END:DAYLIGHT
BEGIN:STANDARD
TZOFFSETFROM:+0200
TZOFFSETTO:+0100
TZNAME:CET
DTSTART:20221030T010000
END:STANDARD
END:VTIMEZONE
BEGIN:VEVENT
DTSTART;TZID=Europe/Paris:20210919T153000
DTEND;TZID=Europe/Paris:20210919T153000
DTSTAMP:20260426T003528
CREATED:20210526T144457Z
LAST-MODIFIED:20230607T125652Z
UID:22258-1632065400-1632065400@inavouable.net
SUMMARY:Amie D'Enfance\, en promenade théâtrale - Journées Européennes du Patrimoine
DESCRIPTION:
URL:https://inavouable.net/event/amie-denfance-en-promenade-theatrale-journees-europeennes-du-patrimoine/
LOCATION:Amie d’enfance\, Salle Gérard Philipe\, Lisses\, 1 Pl. Gérard Philipe\, Lisses\, 91090\, France
CATEGORIES:Agenda,Amie D'Enfance
END:VEVENT
END:VCALENDAR