BEGIN:VCALENDAR
VERSION:2.0
PRODID:-//Communauté Inavouable - ECPv6.15.20//NONSGML v1.0//EN
CALSCALE:GREGORIAN
METHOD:PUBLISH
X-WR-CALNAME:Communauté Inavouable
X-ORIGINAL-URL:https://inavouable.net
X-WR-CALDESC:Évènements pour Communauté Inavouable
REFRESH-INTERVAL;VALUE=DURATION:PT1H
X-Robots-Tag:noindex
X-PUBLISHED-TTL:PT1H
BEGIN:VTIMEZONE
TZID:Europe/Paris
BEGIN:DAYLIGHT
TZOFFSETFROM:+0100
TZOFFSETTO:+0200
TZNAME:CEST
DTSTART:20200329T010000
END:DAYLIGHT
BEGIN:STANDARD
TZOFFSETFROM:+0200
TZOFFSETTO:+0100
TZNAME:CET
DTSTART:20201025T010000
END:STANDARD
BEGIN:DAYLIGHT
TZOFFSETFROM:+0100
TZOFFSETTO:+0200
TZNAME:CEST
DTSTART:20210328T010000
END:DAYLIGHT
BEGIN:STANDARD
TZOFFSETFROM:+0200
TZOFFSETTO:+0100
TZNAME:CET
DTSTART:20211031T010000
END:STANDARD
BEGIN:DAYLIGHT
TZOFFSETFROM:+0100
TZOFFSETTO:+0200
TZNAME:CEST
DTSTART:20220327T010000
END:DAYLIGHT
BEGIN:STANDARD
TZOFFSETFROM:+0200
TZOFFSETTO:+0100
TZNAME:CET
DTSTART:20221030T010000
END:STANDARD
END:VTIMEZONE
BEGIN:VEVENT
DTSTART;TZID=Europe/Paris:20210715T210000
DTEND;TZID=Europe/Paris:20210717T220000
DTSTAMP:20260426T034906
CREATED:20210505T123129Z
LAST-MODIFIED:20230607T125723Z
UID:22222-1626382800-1626559200@inavouable.net
SUMMARY:Amie D'Enfance\, T.A.T ! Festival Théâtre\, Amour & Transarts
DESCRIPTION:Du 21 juin au 18 juillet\, Nouveau Gare au Théâtre (Vitry-sur-Seine\, 94) organise la première édition de son nouveau festival d’été : T.A.T ! Théâtre Amour & Transats. La compagnie présentera jeudi 15\, vendredi 16 et samedi 17 juillet à 21h Amie D’Enfance\, édition scénique #1 avec Peggy Péneau\, Lola Guiton et eRikm.\n\n\n 
URL:https://inavouable.net/event/amie-denfance-t-a-t-festival-theatre-amour-transarts/
LOCATION:Nouveau Gare au Théâtre (Vitry-sur-Seine\, 94)\, 13 rue Pierre Sémard\, Vitry-sur-Seine\, 94400\, France
CATEGORIES:Agenda,Amie D'Enfance
END:VEVENT
END:VCALENDAR