BEGIN:VCALENDAR
VERSION:2.0
PRODID:-//Communauté Inavouable - ECPv6.15.20//NONSGML v1.0//EN
CALSCALE:GREGORIAN
METHOD:PUBLISH
X-WR-CALNAME:Communauté Inavouable
X-ORIGINAL-URL:https://inavouable.net
X-WR-CALDESC:Évènements pour Communauté Inavouable
REFRESH-INTERVAL;VALUE=DURATION:PT1H
X-Robots-Tag:noindex
X-PUBLISHED-TTL:PT1H
BEGIN:VTIMEZONE
TZID:Europe/Paris
BEGIN:DAYLIGHT
TZOFFSETFROM:+0100
TZOFFSETTO:+0200
TZNAME:CEST
DTSTART:20200329T010000
END:DAYLIGHT
BEGIN:STANDARD
TZOFFSETFROM:+0200
TZOFFSETTO:+0100
TZNAME:CET
DTSTART:20201025T010000
END:STANDARD
BEGIN:DAYLIGHT
TZOFFSETFROM:+0100
TZOFFSETTO:+0200
TZNAME:CEST
DTSTART:20210328T010000
END:DAYLIGHT
BEGIN:STANDARD
TZOFFSETFROM:+0200
TZOFFSETTO:+0100
TZNAME:CET
DTSTART:20211031T010000
END:STANDARD
BEGIN:DAYLIGHT
TZOFFSETFROM:+0100
TZOFFSETTO:+0200
TZNAME:CEST
DTSTART:20220327T010000
END:DAYLIGHT
BEGIN:STANDARD
TZOFFSETFROM:+0200
TZOFFSETTO:+0100
TZNAME:CET
DTSTART:20221030T010000
END:STANDARD
END:VTIMEZONE
BEGIN:VEVENT
DTSTART;TZID=Europe/Paris:20210604T170000
DTEND;TZID=Europe/Paris:20210604T170000
DTSTAMP:20260426T053028
CREATED:20210224T090612Z
LAST-MODIFIED:20210511T072336Z
UID:21996-1622826000-1622826000@inavouable.net
SUMMARY:Création d'Amie D'Enfance\, en promenade dans le cadre de Scènes du 6 - Festival des arts vivants
DESCRIPTION:La compagnie participe à la seconde édition de Scènes du 6 – Festival des arts vivants qui se tiendra du 1er au 6 juin 2021 au 6b à Saint-Denis (93). Clyde Chabot présentera ses trois dernières créations :\n\nVendredi 4 juin à 17h : création d’Amie D’Enfance\, en promenade avec Peggy Péneau et Lola Guiton\nSamedi 5 juin à 16h : création d’Amie D’Enfance\, version scénique avec Peggy Péneau\, Lola Guiton et eRikm\nDimanche 6 juin à 15h : Amie D’Enfance\, en promenade avec Peggy Péneau et Lola Guiton\nDimanche 6 juin à 17h : Fille de militaire avec Thierry Madiot & CHICAGO-reconstitution
URL:https://inavouable.net/event/amie-denfance-scenes-du-6-festival-des-arts-vivants-le-6b-saint-denis-93/
LOCATION:Le 6b (Saint-Denis\, 93)\, 6 quai de Seine\, Saint-Denis\, 93200\, France
CATEGORIES:Amie D'Enfance
END:VEVENT
BEGIN:VEVENT
DTSTART;TZID=Europe/Paris:20210605T160000
DTEND;TZID=Europe/Paris:20210605T160000
DTSTAMP:20260426T053028
CREATED:20210224T091046Z
LAST-MODIFIED:20210511T072346Z
UID:22002-1622908800-1622908800@inavouable.net
SUMMARY:Création d'Amie D'Enfance\, Scènes du 6 - Festival des arts vivants
DESCRIPTION:La compagnie participe à la seconde édition de Scènes du 6 – Festival des arts vivants qui se tiendra du 1er au 6 juin 2021 au 6b à Saint-Denis (93). Clyde Chabot présentera ses trois dernières créations :\n\nVendredi 4 juin à 17h : création d’Amie D’Enfance\, en promenade avec Peggy Péneau et Lola Guiton\nSamedi 5 juin à 16h : création d’Amie D’Enfance\, version scénique avec Peggy Péneau\, Lola Guiton et eRikm\nDimanche 6 juin à 15h : Amie D’Enfance\, en promenade avec Peggy Péneau et Lola Guiton\nDimanche 6 juin à 17h : Fille de militaire avec Thierry Madiot & CHICAGO-reconstitution
URL:https://inavouable.net/event/amie-denfance-scenes-du-6-festival-des-arts-vivants-le-6b-saint-denis-93-2/
LOCATION:Théâtre Jean Vilar (Île-Saint-Denis\, 93)\, 1bis Rue Mechin\, L'Île-Saint-Denis\, 93450\, France
CATEGORIES:Amie D'Enfance
END:VEVENT
BEGIN:VEVENT
DTSTART;TZID=Europe/Paris:20210606T150000
DTEND;TZID=Europe/Paris:20210606T150000
DTSTAMP:20260426T053028
CREATED:20210224T090951Z
LAST-MODIFIED:20210511T072340Z
UID:22000-1622991600-1622991600@inavouable.net
SUMMARY:Amie D'Enfance\, en promenade dans le cadre de Scènes du 6 - Festival des arts vivants
DESCRIPTION:La compagnie participe à la seconde édition de Scènes du 6 – Festival des arts vivants qui se tiendra du 1er au 6 juin 2021 au 6b à Saint-Denis (93). Clyde Chabot présentera ses trois dernières créations :\n\nVendredi 4 juin à 17h : création d’Amie D’Enfance\, en promenade avec Peggy Péneau et Lola Guiton\nSamedi 5 juin à 16h : création d’Amie D’Enfance\, version scénique avec Peggy Péneau\, Lola Guiton et eRikm\nDimanche 6 juin à 15h : Amie D’Enfance\, en promenade avec Peggy Péneau et Lola Guiton\nDimanche 6 juin à 17h : Fille de militaire avec Thierry Madiot & CHICAGO-reconstitution\n\n 
URL:https://inavouable.net/event/amie-denfance-en-promenade-scenes-du-6-festival-des-arts-vivants-le-6b-saint-denis-93/
LOCATION:Le 6b (Saint-Denis\, 93)\, 6 quai de Seine\, Saint-Denis\, 93200\, France
CATEGORIES:Amie D'Enfance
END:VEVENT
END:VCALENDAR